BEGIN:VCALENDAR
VERSION:2.0
PRODID:-//eventon.com NONSGML v1.0//EN
BEGIN:VEVENT
UID:69e88bff12ffe
DTSTAMP:20260422T105111
DTSTART:20210904T120000Z
DTEND:20210904T215000Z
LOCATION:
SUMMARY:Moms of the Midlands Meet-up (September 2021)
DESCRIPTION: Spring Wellness Picnic Guest speakers · Giveaways · Tea/Coffee & Cake Angie Mayo Fill Your Cup & Invest in Y-O-U Jackie Cameron Chef Quality Basics at Home Mel Manley Sleep & Mental Well-being Book your ticket today!
END:VEVENT
END:VCALENDAR